View In:
ArcGIS JavaScript
ArcGIS Online map viewer
Google Earth
ArcMap
ArcGIS Explorer
View Footprint In:
ArcGIS Online map viewer
Service Description: This map service is a mosaic of six-inch orthoimagery of Richland Parish, Louisiana. The aerial photographs were taken in late February to early March 2016, covering the entire parish. The images are in MrSID MG2 format with three bands. The downloadable MrSid files are projected in NAD1983 State Plane Louisiana North FIPS 1701 (feet, WKID: 3451), while the web service has been projected to Web Mercator. The dataset was provided to Atlas by the Richland Parish Assessor’s Office, and is distributed by Atlas under a Creative Commons Attribution-ShareAlike license.
Map Name: Layers
Legend
All Layers and Tables
Layers:
Description:
Copyright Text: Richland Parish Assessor's Office, LSU Geography
Spatial Reference:
102100
(3857)
Single Fused Map Cache: true
Tile Info:
- Height: 256
- Width: 256
- DPI: 96
-
Levels of Detail: 20
-
Level ID: 0
[ Start Tile, End Tile ]
- Resolution: 156543.03392800014
- Scale: 5.91657527591555E8
-
Level ID: 1
[ Start Tile, End Tile ]
- Resolution: 78271.51696399994
- Scale: 2.95828763795777E8
-
Level ID: 2
[ Start Tile, End Tile ]
- Resolution: 39135.75848200009
- Scale: 1.47914381897889E8
-
Level ID: 3
[ Start Tile, End Tile ]
- Resolution: 19567.87924099992
- Scale: 7.3957190948944E7
-
Level ID: 4
[ Start Tile, End Tile ]
- Resolution: 9783.93962049996
- Scale: 3.6978595474472E7
-
Level ID: 5
[ Start Tile, End Tile ]
- Resolution: 4891.96981024998
- Scale: 1.8489297737236E7
- Format: MIXED
- Compression Quality: 75.0
- Origin: X: -2.0037508342787E7
Y: 2.0037508342787E7
- Spatial Reference: 102100
(3857)
Initial Extent:
XMin: -1.0255567981164655E7
YMin: 3801381.5339126675
XMax: -1.016766539863682E7
YMax: 3856034.0091364947
Spatial Reference: 102100
(3857)
Full Extent:
XMin: -1.02469663216E7
YMin: 3782701.967050494
XMax: -1.0176267058201473E7
YMax: 3851476.7194000036
Spatial Reference: 102100
(3857)
Units: esriMeters
Supported Image Format Types: PNG32,PNG24,PNG,JPG,DIB,TIFF,EMF,PS,PDF,GIF,SVG,SVGZ,BMP
Document Info:
Title:
Author:
Comments: This map service is a mosaic of six-inch orthoimagery of Richland Parish, Louisiana. The aerial photographs were taken in late February to early March 2016, covering the entire parish. The images are in MrSID MG2 format with three bands. The downloadable MrSid files are projected in NAD1983 State Plane Louisiana North FIPS 1701 (feet, WKID: 3451), while the web service has been projected to Web Mercator. The dataset was provided to Atlas by the Richland Parish Assessor’s Office, and is distributed by Atlas under a Creative Commons Attribution-ShareAlike license.
Subject: Six-inch imagery of the Richland Parish, Louisiana, taken in February-March 2016.
Category:
Keywords: imagery,richland parish,louisiana
AntialiasingMode: None
TextAntialiasingMode: Force
Supports Dynamic Layers: false
MaxRecordCount: 1000
MaxImageHeight: 4096
MaxImageWidth: 4096
Supported Query Formats: JSON, AMF
Min Scale: 36111.909643
Max Scale: 1128.497176
Child Resources:
Info
Supported Operations:
Export Map
Identify
Find
Return Updates